BEGIN:VCALENDAR
VERSION:2.0
PRODID:-//velogruppe - ECPv6.15.11//NONSGML v1.0//EN
CALSCALE:GREGORIAN
METHOD:PUBLISH
X-WR-CALNAME:velogruppe
X-ORIGINAL-URL:https://velogruppe.de
X-WR-CALDESC:Veranstaltungen für velogruppe
REFRESH-INTERVAL;VALUE=DURATION:PT1H
X-Robots-Tag:noindex
X-PUBLISHED-TTL:PT1H
BEGIN:VTIMEZONE
TZID:Europe/Helsinki
BEGIN:DAYLIGHT
TZOFFSETFROM:+0200
TZOFFSETTO:+0300
TZNAME:EEST
DTSTART:20240331T010000
END:DAYLIGHT
BEGIN:STANDARD
TZOFFSETFROM:+0300
TZOFFSETTO:+0200
TZNAME:EET
DTSTART:20241027T010000
END:STANDARD
BEGIN:DAYLIGHT
TZOFFSETFROM:+0200
TZOFFSETTO:+0300
TZNAME:EEST
DTSTART:20250330T010000
END:DAYLIGHT
BEGIN:STANDARD
TZOFFSETFROM:+0300
TZOFFSETTO:+0200
TZNAME:EET
DTSTART:20251026T010000
END:STANDARD
BEGIN:DAYLIGHT
TZOFFSETFROM:+0200
TZOFFSETTO:+0300
TZNAME:EEST
DTSTART:20260329T010000
END:DAYLIGHT
BEGIN:STANDARD
TZOFFSETFROM:+0300
TZOFFSETTO:+0200
TZNAME:EET
DTSTART:20261025T010000
END:STANDARD
BEGIN:DAYLIGHT
TZOFFSETFROM:+0200
TZOFFSETTO:+0300
TZNAME:EEST
DTSTART:20270328T010000
END:DAYLIGHT
BEGIN:STANDARD
TZOFFSETFROM:+0300
TZOFFSETTO:+0200
TZNAME:EET
DTSTART:20271031T010000
END:STANDARD
END:VTIMEZONE
BEGIN:VEVENT
DTSTART;TZID=Europe/Helsinki:20260416T183000
DTEND;TZID=Europe/Helsinki:20260416T200000
DTSTAMP:20260420T134714
CREATED:20260314T070423Z
LAST-MODIFIED:20260314T125048Z
UID:1264-1776364200-1776369600@velogruppe.de
SUMMARY:Trekking-Radler
DESCRIPTION:
URL:https://velogruppe.de/event/trekking-radler-15/
LOCATION:Rathaus Großhabersdorf\, Nürnbergerstr. 12\, Großhabersdorf\, 90613
CATEGORIES:Trekking
END:VEVENT
BEGIN:VEVENT
DTSTART;TZID=Europe/Helsinki:20260415T180000
DTEND;TZID=Europe/Helsinki:20260415T200000
DTSTAMP:20260420T134714
CREATED:20260314T065549Z
LAST-MODIFIED:20260314T065549Z
UID:1247-1776276000-1776283200@velogruppe.de
SUMMARY:Rennrad Gruppe 1 & 2 & 3
DESCRIPTION:
URL:https://velogruppe.de/event/rennrad-gruppe-1-2-3-3/
LOCATION:Rathaus Großhabersdorf\, Nürnbergerstr. 12\, Großhabersdorf\, 90613
CATEGORIES:Rennrad
END:VEVENT
BEGIN:VEVENT
DTSTART;TZID=Europe/Helsinki:20260414T180000
DTEND;TZID=Europe/Helsinki:20260414T200000
DTSTAMP:20260420T134714
CREATED:20260314T064607Z
LAST-MODIFIED:20260314T064607Z
UID:1233-1776189600-1776196800@velogruppe.de
SUMMARY:Genuss-Radler
DESCRIPTION:
URL:https://velogruppe.de/event/genuss-radler-2/
LOCATION:Rathaus Großhabersdorf\, Nürnbergerstr. 12\, Großhabersdorf\, 90613
CATEGORIES:Genussradler
END:VEVENT
BEGIN:VEVENT
DTSTART;TZID=Europe/Helsinki:20260409T183000
DTEND;TZID=Europe/Helsinki:20260409T200000
DTSTAMP:20260420T134714
CREATED:20260314T064144Z
LAST-MODIFIED:20260314T124900Z
UID:1228-1775759400-1775764800@velogruppe.de
SUMMARY:Trekking-Radler
DESCRIPTION:
URL:https://velogruppe.de/event/trekking-radler-14/
LOCATION:Rathaus Großhabersdorf\, Nürnbergerstr. 12\, Großhabersdorf\, 90613
CATEGORIES:Trekking
END:VEVENT
BEGIN:VEVENT
DTSTART;TZID=Europe/Helsinki:20260408T180000
DTEND;TZID=Europe/Helsinki:20260408T200000
DTSTAMP:20260420T134714
CREATED:20260314T064420Z
LAST-MODIFIED:20260314T064420Z
UID:1230-1775671200-1775678400@velogruppe.de
SUMMARY:Rennrad Gruppe 1 & 2 & 3
DESCRIPTION:
URL:https://velogruppe.de/event/rennrad-gruppe-1-2-3-2/
LOCATION:Rathaus Großhabersdorf\, Nürnbergerstr. 12\, Großhabersdorf\, 90613
CATEGORIES:Rennrad
END:VEVENT
BEGIN:VEVENT
DTSTART;TZID=Europe/Helsinki:20260407T180000
DTEND;TZID=Europe/Helsinki:20260407T200000
DTSTAMP:20260420T134714
CREATED:20260314T064049Z
LAST-MODIFIED:20260314T064049Z
UID:1226-1775584800-1775592000@velogruppe.de
SUMMARY:Genuss-Radler
DESCRIPTION:
URL:https://velogruppe.de/event/genuss-radler/
LOCATION:Rathaus Großhabersdorf\, Nürnbergerstr. 12\, Großhabersdorf\, 90613
CATEGORIES:Genussradler
END:VEVENT
BEGIN:VEVENT
DTSTART;TZID=Europe/Helsinki:20260329T093000
DTEND;TZID=Europe/Helsinki:20260329T113000
DTSTAMP:20260420T134714
CREATED:20260111T191702Z
LAST-MODIFIED:20260111T191702Z
UID:1196-1774776600-1774783800@velogruppe.de
SUMMARY:Mountainbike
DESCRIPTION:
URL:https://velogruppe.de/event/mountainbike-67/
LOCATION:Rathaus Großhabersdorf\, Nürnbergerstr. 12\, Großhabersdorf\, 90613
CATEGORIES:Mountainbike
END:VEVENT
BEGIN:VEVENT
DTSTART;TZID=Europe/Helsinki:20260322T093000
DTEND;TZID=Europe/Helsinki:20260322T113000
DTSTAMP:20260420T134714
CREATED:20260111T191606Z
LAST-MODIFIED:20260111T191606Z
UID:1194-1774171800-1774179000@velogruppe.de
SUMMARY:Mountainbike
DESCRIPTION:
URL:https://velogruppe.de/event/mountainbike-66/
LOCATION:Rathaus Großhabersdorf\, Nürnbergerstr. 12\, Großhabersdorf\, 90613
CATEGORIES:Mountainbike
END:VEVENT
BEGIN:VEVENT
DTSTART;TZID=Europe/Helsinki:20260315T093000
DTEND;TZID=Europe/Helsinki:20260315T113000
DTSTAMP:20260420T134715
CREATED:20260111T191502Z
LAST-MODIFIED:20260111T191502Z
UID:1192-1773567000-1773574200@velogruppe.de
SUMMARY:Mountainbike
DESCRIPTION:
URL:https://velogruppe.de/event/mountainbike-65/
LOCATION:Rathaus Großhabersdorf\, Nürnbergerstr. 12\, Großhabersdorf\, 90613
CATEGORIES:Mountainbike
END:VEVENT
BEGIN:VEVENT
DTSTART;TZID=Europe/Helsinki:20260308T093000
DTEND;TZID=Europe/Helsinki:20260308T113000
DTSTAMP:20260420T134715
CREATED:20260111T191408Z
LAST-MODIFIED:20260111T191408Z
UID:1190-1772962200-1772969400@velogruppe.de
SUMMARY:Mountainbike
DESCRIPTION:
URL:https://velogruppe.de/event/mountainbike-64/
LOCATION:Rathaus Großhabersdorf\, Nürnbergerstr. 12\, Großhabersdorf\, 90613
CATEGORIES:Mountainbike
END:VEVENT
BEGIN:VEVENT
DTSTART;TZID=Europe/Helsinki:20260301T180000
DTEND;TZID=Europe/Helsinki:20260301T210000
DTSTAMP:20260420T134715
CREATED:20250911T170047Z
LAST-MODIFIED:20260216T185331Z
UID:1063-1772388000-1772398800@velogruppe.de
SUMMARY:Kegelabend
DESCRIPTION:Gasthaus „Zur Buchspitz“\, Schützenstraße 1 in Cadolzburg
URL:https://velogruppe.de/event/kegelabend-11/
CATEGORIES:Sonderveranstaltungen
END:VEVENT
BEGIN:VEVENT
DTSTART;TZID=Europe/Helsinki:20260301T093000
DTEND;TZID=Europe/Helsinki:20260301T113000
DTSTAMP:20260420T134715
CREATED:20260111T191142Z
LAST-MODIFIED:20260111T191142Z
UID:1188-1772357400-1772364600@velogruppe.de
SUMMARY:Mountainbike
DESCRIPTION:
URL:https://velogruppe.de/event/mountainbike-63/
LOCATION:Rathaus Großhabersdorf\, Nürnbergerstr. 12\, Großhabersdorf\, 90613
CATEGORIES:Mountainbike
END:VEVENT
BEGIN:VEVENT
DTSTART;TZID=Europe/Helsinki:20260222T093000
DTEND;TZID=Europe/Helsinki:20260222T113000
DTSTAMP:20260420T134715
CREATED:20260111T190849Z
LAST-MODIFIED:20260111T190849Z
UID:1186-1771752600-1771759800@velogruppe.de
SUMMARY:Mountainbike
DESCRIPTION:
URL:https://velogruppe.de/event/mountainbike-62/
LOCATION:Rathaus Großhabersdorf\, Nürnbergerstr. 12\, Großhabersdorf\, 90613
CATEGORIES:Mountainbike
END:VEVENT
BEGIN:VEVENT
DTSTART;TZID=Europe/Helsinki:20260215T093000
DTEND;TZID=Europe/Helsinki:20260215T113000
DTSTAMP:20260420T134715
CREATED:20260111T190742Z
LAST-MODIFIED:20260111T190742Z
UID:1184-1771147800-1771155000@velogruppe.de
SUMMARY:Mountainbike
DESCRIPTION:
URL:https://velogruppe.de/event/mountainbike-61/
LOCATION:Rathaus Großhabersdorf\, Nürnbergerstr. 12\, Großhabersdorf\, 90613
CATEGORIES:Mountainbike
END:VEVENT
BEGIN:VEVENT
DTSTART;TZID=Europe/Helsinki:20260208T093000
DTEND;TZID=Europe/Helsinki:20260208T113000
DTSTAMP:20260420T134715
CREATED:20260111T190631Z
LAST-MODIFIED:20260111T190631Z
UID:1182-1770543000-1770550200@velogruppe.de
SUMMARY:Mountainbike
DESCRIPTION:
URL:https://velogruppe.de/event/mountainbike-60/
LOCATION:Rathaus Großhabersdorf\, Nürnbergerstr. 12\, Großhabersdorf\, 90613
CATEGORIES:Mountainbike
END:VEVENT
BEGIN:VEVENT
DTSTART;TZID=Europe/Helsinki:20260207T190000
DTEND;TZID=Europe/Helsinki:20260207T220000
DTSTAMP:20260420T134715
CREATED:20260111T183447Z
LAST-MODIFIED:20260111T183447Z
UID:1174-1770490800-1770501600@velogruppe.de
SUMMARY:Grande Finale Kickerturnier im Fahrradschuppen Großhabersdorf
DESCRIPTION:Es handelt sich um keine Veranstaltung der Velogruppe – der Veranstalter ist der Radschuppen in Großhabersdorf. \nWir planen ein Kickerturnier im Fahrradschuppen ⚽️\nDa wir vor allem Leute erreichen wollen\, für die nicht der Wettbewerb sondern der Spaß im Vordergrund steht\, halten wir die Werbung für das Turnier hier über Whatsapp klein. Schickt die Nachricht also gerne an Freunde weiter\, die einfach Lust auf einen schönen Abend haben 🤘 \nDas Datum könnt Ihr mit entscheiden und wir planen es an dem Tag mit den meisten Zusagen. Zur Auswahl stehen folgende Termine: Samstag der 17.01.26\, Samstag der 24.01.26 oder Samstag der 31.01.26. \nFalls euch die Nachricht geteilt wurde\, schickt gerne #Kickerturnier mit dem Datum an die 017676642483. 📞 \nDa sich die Terminfindung für einen Spieltag als schwierig erweist\, wird über drei Spieltage plus Finaltag gespielt.\nJeder Spieltag beginnt ab 19 Uhr. \nEine Mannschaft kann aus 1-2 Spielern bestehen.\nGespielt werden jeweils 3 Sätze. (Best of 3)\nWer zuerst 6 Tore hat gewinnt den Satz. \nGespielt wird an 4 Spieltagen\n– Jede Gruppe besteht aus maximal 12 Mannschaften) \n17.01.26 – Gruppe 1\n24.01.26 – Gruppe 2\n31.01.26 – Gruppe 3 \n07.02.26 – Grande Finale\n– Die besten 12 Mannschaften (die ersten drei Mannschaften jeder Gruppe) spielen um den Sieg\, falls eine Mannschaft an dem Termin nicht kann\, wird gelost\, welche Mannschaft der 12 besten automatisch weiter kommt. \nDas Finale wird auf der Leinwand übertragen. \nErster Preis sind Eintrittskarten für den Svg Fasching am 14.02.2026 und ein Wanderpokal \nDer zweite und dritte Preis werden eine Überraschung. \nDas Wichtigste: Es geht um den Spaß\, heißt jeder Teilnehmer egal\, welchen Könnens\, Alters oder was sonst noch davon abhalten könnte mitzumachen\, ist willkommen. \nBitte meldet euch per WhatsApp unter der 017676642483 mit eurem Teamnamen für den jeweiligen Spieltag an.
URL:https://velogruppe.de/event/grande-finale-kickerturnier-im-fahrradschuppen-grosshabersdorf/
LOCATION:Fahrradschuppen Großhabersdorf\, Bachstraße 9\, Bayern - Großhabersdorf\, Bayern\, 90613\, Germany
END:VEVENT
BEGIN:VEVENT
DTSTART;TZID=Europe/Helsinki:20260201T180000
DTEND;TZID=Europe/Helsinki:20260201T210000
DTSTAMP:20260420T134715
CREATED:20250911T170001Z
LAST-MODIFIED:20250911T170001Z
UID:1061-1769968800-1769979600@velogruppe.de
SUMMARY:Kegelabend
DESCRIPTION:Gasthaus „Zur Buchspitz“\, Schützenstraße 1 in Cadolzburg
URL:https://velogruppe.de/event/kegelabend-10/
CATEGORIES:Sonderveranstaltungen
END:VEVENT
BEGIN:VEVENT
DTSTART;TZID=Europe/Helsinki:20260201T093000
DTEND;TZID=Europe/Helsinki:20260201T113000
DTSTAMP:20260420T134715
CREATED:20260111T190534Z
LAST-MODIFIED:20260111T190534Z
UID:1180-1769938200-1769945400@velogruppe.de
SUMMARY:Mountainbike
DESCRIPTION:
URL:https://velogruppe.de/event/mountainbike-59/
LOCATION:Rathaus Großhabersdorf\, Nürnbergerstr. 12\, Großhabersdorf\, 90613
CATEGORIES:Mountainbike
END:VEVENT
BEGIN:VEVENT
DTSTART;TZID=Europe/Helsinki:20260131T190000
DTEND;TZID=Europe/Helsinki:20260131T220000
DTSTAMP:20260420T134715
CREATED:20260111T183257Z
LAST-MODIFIED:20260111T183257Z
UID:1172-1769886000-1769896800@velogruppe.de
SUMMARY:Kickerturnier im Fahrradschuppen Großhabersdorf
DESCRIPTION:Es handelt sich um keine Veranstaltung der Velogruppe – der Veranstalter ist der Radschuppen in Großhabersdorf. \nWir planen ein Kickerturnier im Fahrradschuppen ⚽️\nDa wir vor allem Leute erreichen wollen\, für die nicht der Wettbewerb sondern der Spaß im Vordergrund steht\, halten wir die Werbung für das Turnier hier über Whatsapp klein. Schickt die Nachricht also gerne an Freunde weiter\, die einfach Lust auf einen schönen Abend haben 🤘 \nDas Datum könnt Ihr mit entscheiden und wir planen es an dem Tag mit den meisten Zusagen. Zur Auswahl stehen folgende Termine: Samstag der 17.01.26\, Samstag der 24.01.26 oder Samstag der 31.01.26. \nFalls euch die Nachricht geteilt wurde\, schickt gerne #Kickerturnier mit dem Datum an die 017676642483. 📞 \nDa sich die Terminfindung für einen Spieltag als schwierig erweist\, wird über drei Spieltage plus Finaltag gespielt.\nJeder Spieltag beginnt ab 19 Uhr. \nEine Mannschaft kann aus 1-2 Spielern bestehen.\nGespielt werden jeweils 3 Sätze. (Best of 3)\nWer zuerst 6 Tore hat gewinnt den Satz. \nGespielt wird an 4 Spieltagen\n– Jede Gruppe besteht aus maximal 12 Mannschaften) \n17.01.26 – Gruppe 1\n24.01.26 – Gruppe 2\n31.01.26 – Gruppe 3 \n07.02.26 – Grande Finale\n– Die besten 12 Mannschaften (die ersten drei Mannschaften jeder Gruppe) spielen um den Sieg\, falls eine Mannschaft an dem Termin nicht kann\, wird gelost\, welche Mannschaft der 12 besten automatisch weiter kommt. \nDas Finale wird auf der Leinwand übertragen. \nErster Preis sind Eintrittskarten für den Svg Fasching am 14.02.2026 und ein Wanderpokal \nDer zweite und dritte Preis werden eine Überraschung. \nDas Wichtigste: Es geht um den Spaß\, heißt jeder Teilnehmer egal\, welchen Könnens\, Alters oder was sonst noch davon abhalten könnte mitzumachen\, ist willkommen. \nBitte meldet euch per WhatsApp unter der 017676642483 mit eurem Teamnamen für den jeweiligen Spieltag an.
URL:https://velogruppe.de/event/kickerturnier-im-fahrradschuppen-grosshabersdorf-3/
LOCATION:Fahrradschuppen Großhabersdorf\, Bachstraße 9\, Bayern - Großhabersdorf\, Bayern\, 90613\, Germany
END:VEVENT
BEGIN:VEVENT
DTSTART;TZID=Europe/Helsinki:20260125T093000
DTEND;TZID=Europe/Helsinki:20260125T113000
DTSTAMP:20260420T134715
CREATED:20260111T190436Z
LAST-MODIFIED:20260111T190436Z
UID:1178-1769333400-1769340600@velogruppe.de
SUMMARY:Mountainbike
DESCRIPTION:
URL:https://velogruppe.de/event/mountainbike-58/
LOCATION:Rathaus Großhabersdorf\, Nürnbergerstr. 12\, Großhabersdorf\, 90613
CATEGORIES:Mountainbike
END:VEVENT
BEGIN:VEVENT
DTSTART;TZID=Europe/Helsinki:20260124T190000
DTEND;TZID=Europe/Helsinki:20260124T220000
DTSTAMP:20260420T134715
CREATED:20260111T183124Z
LAST-MODIFIED:20260111T183124Z
UID:1170-1769281200-1769292000@velogruppe.de
SUMMARY:Kickerturnier im Fahrradschuppen Großhabersdorf
DESCRIPTION:Es handelt sich um keine Veranstaltung der Velogruppe – der Veranstalter ist der Radschuppen in Großhabersdorf. \nWir planen ein Kickerturnier im Fahrradschuppen ⚽️\nDa wir vor allem Leute erreichen wollen\, für die nicht der Wettbewerb sondern der Spaß im Vordergrund steht\, halten wir die Werbung für das Turnier hier über Whatsapp klein. Schickt die Nachricht also gerne an Freunde weiter\, die einfach Lust auf einen schönen Abend haben 🤘 \nDas Datum könnt Ihr mit entscheiden und wir planen es an dem Tag mit den meisten Zusagen. Zur Auswahl stehen folgende Termine: Samstag der 17.01.26\, Samstag der 24.01.26 oder Samstag der 31.01.26. \nFalls euch die Nachricht geteilt wurde\, schickt gerne #Kickerturnier mit dem Datum an die 017676642483. 📞 \nDa sich die Terminfindung für einen Spieltag als schwierig erweist\, wird über drei Spieltage plus Finaltag gespielt.\nJeder Spieltag beginnt ab 19 Uhr. \nEine Mannschaft kann aus 1-2 Spielern bestehen.\nGespielt werden jeweils 3 Sätze. (Best of 3)\nWer zuerst 6 Tore hat gewinnt den Satz. \nGespielt wird an 4 Spieltagen\n– Jede Gruppe besteht aus maximal 12 Mannschaften) \n17.01.26 – Gruppe 1\n24.01.26 – Gruppe 2\n31.01.26 – Gruppe 3 \n07.02.26 – Grande Finale\n– Die besten 12 Mannschaften (die ersten drei Mannschaften jeder Gruppe) spielen um den Sieg\, falls eine Mannschaft an dem Termin nicht kann\, wird gelost\, welche Mannschaft der 12 besten automatisch weiter kommt. \nDas Finale wird auf der Leinwand übertragen. \nErster Preis sind Eintrittskarten für den Svg Fasching am 14.02.2026 und ein Wanderpokal \nDer zweite und dritte Preis werden eine Überraschung. \nDas Wichtigste: Es geht um den Spaß\, heißt jeder Teilnehmer egal\, welchen Könnens\, Alters oder was sonst noch davon abhalten könnte mitzumachen\, ist willkommen. \nBitte meldet euch per WhatsApp unter der 017676642483 mit eurem Teamnamen für den jeweiligen Spieltag an.
URL:https://velogruppe.de/event/kickerturnier-im-fahrradschuppen-grosshabersdorf-2/
LOCATION:Fahrradschuppen Großhabersdorf\, Bachstraße 9\, Bayern - Großhabersdorf\, Bayern\, 90613\, Germany
END:VEVENT
BEGIN:VEVENT
DTSTART;TZID=Europe/Helsinki:20260118T093000
DTEND;TZID=Europe/Helsinki:20260118T113000
DTSTAMP:20260420T134715
CREATED:20260111T190331Z
LAST-MODIFIED:20260111T190331Z
UID:1176-1768728600-1768735800@velogruppe.de
SUMMARY:Mountainbike
DESCRIPTION:
URL:https://velogruppe.de/event/mountainbike-57/
LOCATION:Rathaus Großhabersdorf\, Nürnbergerstr. 12\, Großhabersdorf\, 90613
CATEGORIES:Mountainbike
END:VEVENT
BEGIN:VEVENT
DTSTART;TZID=Europe/Helsinki:20260117T190000
DTEND;TZID=Europe/Helsinki:20260117T220000
DTSTAMP:20260420T134715
CREATED:20260111T182927Z
LAST-MODIFIED:20260111T182927Z
UID:1164-1768676400-1768687200@velogruppe.de
SUMMARY:Kickerturnier im Fahrradschuppen Großhabersdorf
DESCRIPTION:Es handelt sich um keine Veranstaltung der Velogruppe – der Veranstalter ist der Radschuppen in Großhabersdorf. \nWir planen ein Kickerturnier im Fahrradschuppen ⚽️\nDa wir vor allem Leute erreichen wollen\, für die nicht der Wettbewerb sondern der Spaß im Vordergrund steht\, halten wir die Werbung für das Turnier hier über Whatsapp klein. Schickt die Nachricht also gerne an Freunde weiter\, die einfach Lust auf einen schönen Abend haben 🤘 \nDas Datum könnt Ihr mit entscheiden und wir planen es an dem Tag mit den meisten Zusagen. Zur Auswahl stehen folgende Termine: Samstag der 17.01.26\, Samstag der 24.01.26 oder Samstag der 31.01.26. \nFalls euch die Nachricht geteilt wurde\, schickt gerne #Kickerturnier mit dem Datum an die 017676642483. 📞 \nDa sich die Terminfindung für einen Spieltag als schwierig erweist\, wird über drei Spieltage plus Finaltag gespielt.\nJeder Spieltag beginnt ab 19 Uhr. \nEine Mannschaft kann aus 1-2 Spielern bestehen.\nGespielt werden jeweils 3 Sätze. (Best of 3)\nWer zuerst 6 Tore hat gewinnt den Satz. \nGespielt wird an 4 Spieltagen\n– Jede Gruppe besteht aus maximal 12 Mannschaften) \n17.01.26 – Gruppe 1\n24.01.26 – Gruppe 2\n31.01.26 – Gruppe 3 \n07.02.26 – Grande Finale\n– Die besten 12 Mannschaften (die ersten drei Mannschaften jeder Gruppe) spielen um den Sieg\, falls eine Mannschaft an dem Termin nicht kann\, wird gelost\, welche Mannschaft der 12 besten automatisch weiter kommt. \nDas Finale wird auf der Leinwand übertragen. \nErster Preis sind Eintrittskarten für den Svg Fasching am 14.02.2026 und ein Wanderpokal \nDer zweite und dritte Preis werden eine Überraschung. \nDas Wichtigste: Es geht um den Spaß\, heißt jeder Teilnehmer egal\, welchen Könnens\, Alters oder was sonst noch davon abhalten könnte mitzumachen\, ist willkommen. \nBitte meldet euch per WhatsApp unter der 017676642483 mit eurem Teamnamen für den jeweiligen Spieltag an. \n 
URL:https://velogruppe.de/event/kickerturnier-im-fahrradschuppen-grosshabersdorf/
LOCATION:Fahrradschuppen Großhabersdorf\, Bachstraße 9\, Bayern - Großhabersdorf\, Bayern\, 90613\, Germany
END:VEVENT
BEGIN:VEVENT
DTSTART;TZID=Europe/Helsinki:20260104T180000
DTEND;TZID=Europe/Helsinki:20260104T210000
DTSTAMP:20260420T134715
CREATED:20250911T165911Z
LAST-MODIFIED:20250911T165911Z
UID:1059-1767549600-1767560400@velogruppe.de
SUMMARY:Kegelabend
DESCRIPTION:Gasthaus „Zur Buchspitz“\, Schützenstraße 1 in Cadolzburg
URL:https://velogruppe.de/event/kegelabend-9/
CATEGORIES:Sonderveranstaltungen
END:VEVENT
BEGIN:VEVENT
DTSTART;TZID=Europe/Helsinki:20251221T093000
DTEND;TZID=Europe/Helsinki:20251221T113000
DTSTAMP:20260420T134715
CREATED:20250911T173543Z
LAST-MODIFIED:20250911T173543Z
UID:1094-1766309400-1766316600@velogruppe.de
SUMMARY:Mountainbike
DESCRIPTION:
URL:https://velogruppe.de/event/mountainbike-55/
LOCATION:Rathaus Großhabersdorf\, Nürnbergerstr. 12\, Großhabersdorf\, 90613
CATEGORIES:Mountainbike
END:VEVENT
BEGIN:VEVENT
DTSTART;TZID=Europe/Helsinki:20251214T093000
DTEND;TZID=Europe/Helsinki:20251214T113000
DTSTAMP:20260420T134715
CREATED:20250911T173500Z
LAST-MODIFIED:20250911T173500Z
UID:1092-1765704600-1765711800@velogruppe.de
SUMMARY:Mountainbike
DESCRIPTION:
URL:https://velogruppe.de/event/mountainbike-54/
LOCATION:Rathaus Großhabersdorf\, Nürnbergerstr. 12\, Großhabersdorf\, 90613
CATEGORIES:Mountainbike
END:VEVENT
BEGIN:VEVENT
DTSTART;TZID=Europe/Helsinki:20251207T093000
DTEND;TZID=Europe/Helsinki:20251207T113000
DTSTAMP:20260420T134715
CREATED:20250911T173420Z
LAST-MODIFIED:20250911T173420Z
UID:1090-1765099800-1765107000@velogruppe.de
SUMMARY:Mountainbike
DESCRIPTION:
URL:https://velogruppe.de/event/mountainbike-53/
LOCATION:Rathaus Großhabersdorf\, Nürnbergerstr. 12\, Großhabersdorf\, 90613
CATEGORIES:Mountainbike
END:VEVENT
BEGIN:VEVENT
DTSTART;TZID=Europe/Helsinki:20251130T180000
DTEND;TZID=Europe/Helsinki:20251130T210000
DTSTAMP:20260420T134715
CREATED:20250911T165748Z
LAST-MODIFIED:20250911T165748Z
UID:1057-1764525600-1764536400@velogruppe.de
SUMMARY:Kegelabend
DESCRIPTION:Gasthaus „Zur Buchspitz“\, Schützenstraße 1 in Cadolzburg
URL:https://velogruppe.de/event/kegelabend-8/
CATEGORIES:Sonderveranstaltungen
END:VEVENT
BEGIN:VEVENT
DTSTART;TZID=Europe/Helsinki:20251130T093000
DTEND;TZID=Europe/Helsinki:20251130T113000
DTSTAMP:20260420T134715
CREATED:20250911T173321Z
LAST-MODIFIED:20250911T173321Z
UID:1088-1764495000-1764502200@velogruppe.de
SUMMARY:Mountainbike
DESCRIPTION:
URL:https://velogruppe.de/event/mountainbike-52/
LOCATION:Rathaus Großhabersdorf\, Nürnbergerstr. 12\, Großhabersdorf\, 90613
CATEGORIES:Mountainbike
END:VEVENT
BEGIN:VEVENT
DTSTART;TZID=Europe/Helsinki:20251123T093000
DTEND;TZID=Europe/Helsinki:20251123T113000
DTSTAMP:20260420T134715
CREATED:20250911T173235Z
LAST-MODIFIED:20250911T173235Z
UID:1086-1763890200-1763897400@velogruppe.de
SUMMARY:Mountainbike
DESCRIPTION:
URL:https://velogruppe.de/event/mountainbike-51/
LOCATION:Rathaus Großhabersdorf\, Nürnbergerstr. 12\, Großhabersdorf\, 90613
CATEGORIES:Mountainbike
END:VEVENT
END:VCALENDAR