BEGIN:VCALENDAR
VERSION:2.0
PRODID:-//velogruppe - ECPv6.15.11//NONSGML v1.0//EN
CALSCALE:GREGORIAN
METHOD:PUBLISH
X-WR-CALNAME:velogruppe
X-ORIGINAL-URL:https://velogruppe.de
X-WR-CALDESC:Veranstaltungen für velogruppe
REFRESH-INTERVAL;VALUE=DURATION:PT1H
X-Robots-Tag:noindex
X-PUBLISHED-TTL:PT1H
BEGIN:VTIMEZONE
TZID:Europe/Helsinki
BEGIN:DAYLIGHT
TZOFFSETFROM:+0200
TZOFFSETTO:+0300
TZNAME:EEST
DTSTART:20250330T010000
END:DAYLIGHT
BEGIN:STANDARD
TZOFFSETFROM:+0300
TZOFFSETTO:+0200
TZNAME:EET
DTSTART:20251026T010000
END:STANDARD
BEGIN:DAYLIGHT
TZOFFSETFROM:+0200
TZOFFSETTO:+0300
TZNAME:EEST
DTSTART:20260329T010000
END:DAYLIGHT
BEGIN:STANDARD
TZOFFSETFROM:+0300
TZOFFSETTO:+0200
TZNAME:EET
DTSTART:20261025T010000
END:STANDARD
BEGIN:DAYLIGHT
TZOFFSETFROM:+0200
TZOFFSETTO:+0300
TZNAME:EEST
DTSTART:20270328T010000
END:DAYLIGHT
BEGIN:STANDARD
TZOFFSETFROM:+0300
TZOFFSETTO:+0200
TZNAME:EET
DTSTART:20271031T010000
END:STANDARD
END:VTIMEZONE
BEGIN:VEVENT
DTSTART;TZID=Europe/Helsinki:20260602T180000
DTEND;TZID=Europe/Helsinki:20260602T200000
DTSTAMP:20260420T141545
CREATED:20260314T130055Z
LAST-MODIFIED:20260314T130055Z
UID:1282-1780423200-1780430400@velogruppe.de
SUMMARY:Genuss-Radler
DESCRIPTION:
URL:https://velogruppe.de/event/genuss-radler-10/
LOCATION:Rathaus Großhabersdorf\, Nürnbergerstr. 12\, Großhabersdorf\, 90613
CATEGORIES:Genussradler
END:VEVENT
BEGIN:VEVENT
DTSTART;TZID=Europe/Helsinki:20260603T183000
DTEND;TZID=Europe/Helsinki:20260603T213000
DTSTAMP:20260420T141545
CREATED:20260314T132043Z
LAST-MODIFIED:20260314T132043Z
UID:1315-1780511400-1780522200@velogruppe.de
SUMMARY:Rennrad Gruppe 1 & 2 & 3
DESCRIPTION:
URL:https://velogruppe.de/event/rennrad-gruppe-1-2-3-10/
LOCATION:Rathaus Großhabersdorf\, Nürnbergerstr. 12\, Großhabersdorf\, 90613
CATEGORIES:Rennrad
ORGANIZER;CN="Hofmann / H%C3%A4usler / H%C3%A4hnlein":MAILTO:x
END:VEVENT
BEGIN:VEVENT
DTSTART;TZID=Europe/Helsinki:20260604T183000
DTEND;TZID=Europe/Helsinki:20260604T213000
DTSTAMP:20260420T141545
CREATED:20260314T133526Z
LAST-MODIFIED:20260314T133526Z
UID:1343-1780597800-1780608600@velogruppe.de
SUMMARY:Trekking-Radler
DESCRIPTION:
URL:https://velogruppe.de/event/trekking-radler-23/
LOCATION:Rathaus Großhabersdorf\, Nürnbergerstr. 12\, Großhabersdorf\, 90613
CATEGORIES:Trekking
END:VEVENT
BEGIN:VEVENT
DTSTART;TZID=Europe/Helsinki:20260607T080000
DTEND;TZID=Europe/Helsinki:20260627T170000
DTSTAMP:20260420T141545
CREATED:20260216T182207Z
LAST-MODIFIED:20260216T182207Z
UID:1201-1780819200-1782579600@velogruppe.de
SUMMARY:Stadtradeln
DESCRIPTION:Das diesjährige Stadtradeln findet vom 07.06. – 27.06.2026 statt. \nAnsprechpartner ist Gerhard Schermer.
URL:https://velogruppe.de/event/stadtradeln-4/
CATEGORIES:Genussradler,Mountainbike,Rennrad,Sonderveranstaltungen,Trekking
END:VEVENT
BEGIN:VEVENT
DTSTART;TZID=Europe/Helsinki:20260607T130000
DTEND;TZID=Europe/Helsinki:20260607T170000
DTSTAMP:20260420T141545
CREATED:20260419T124108Z
LAST-MODIFIED:20260419T124108Z
UID:1372-1780837200-1780851600@velogruppe.de
SUMMARY:Radtour Velogruppe mit dem Bürgermeister
DESCRIPTION:Es findet dieses Jahr wieder eine Radtour mit dem Bürgermeister statt – weitere Details ggf. bei Gerhard Schermer.
URL:https://velogruppe.de/event/radtour-velogruppe-mit-dem-buergermeister/
LOCATION:Rathaus Großhabersdorf\, Nürnbergerstr. 12\, Großhabersdorf\, 90613
CATEGORIES:Genussradler,Mountainbike,Rennrad,Sonderveranstaltungen,Trekking
END:VEVENT
BEGIN:VEVENT
DTSTART;TZID=Europe/Helsinki:20260609T180000
DTEND;TZID=Europe/Helsinki:20260609T200000
DTSTAMP:20260420T141545
CREATED:20260314T130211Z
LAST-MODIFIED:20260314T130211Z
UID:1284-1781028000-1781035200@velogruppe.de
SUMMARY:Genuss-Radler
DESCRIPTION:
URL:https://velogruppe.de/event/genuss-radler-11/
LOCATION:Rathaus Großhabersdorf\, Nürnbergerstr. 12\, Großhabersdorf\, 90613
CATEGORIES:Genussradler
END:VEVENT
BEGIN:VEVENT
DTSTART;TZID=Europe/Helsinki:20260610T183000
DTEND;TZID=Europe/Helsinki:20260610T213000
DTSTAMP:20260420T141545
CREATED:20260314T132134Z
LAST-MODIFIED:20260314T132134Z
UID:1317-1781116200-1781127000@velogruppe.de
SUMMARY:Rennrad Gruppe 1 & 2 & 3
DESCRIPTION:
URL:https://velogruppe.de/event/rennrad-gruppe-1-2-3-11/
LOCATION:Rathaus Großhabersdorf\, Nürnbergerstr. 12\, Großhabersdorf\, 90613
CATEGORIES:Rennrad
ORGANIZER;CN="Hofmann / H%C3%A4usler / H%C3%A4hnlein":MAILTO:x
END:VEVENT
BEGIN:VEVENT
DTSTART;TZID=Europe/Helsinki:20260611T183000
DTEND;TZID=Europe/Helsinki:20260611T203000
DTSTAMP:20260420T141545
CREATED:20260314T133620Z
LAST-MODIFIED:20260314T133620Z
UID:1345-1781202600-1781209800@velogruppe.de
SUMMARY:Trekking-Radler
DESCRIPTION:
URL:https://velogruppe.de/event/trekking-radler-24/
LOCATION:Rathaus Großhabersdorf\, Nürnbergerstr. 12\, Großhabersdorf\, 90613
CATEGORIES:Trekking
END:VEVENT
BEGIN:VEVENT
DTSTART;TZID=Europe/Helsinki:20260616T180000
DTEND;TZID=Europe/Helsinki:20260616T200000
DTSTAMP:20260420T141545
CREATED:20260314T130300Z
LAST-MODIFIED:20260314T130300Z
UID:1286-1781632800-1781640000@velogruppe.de
SUMMARY:Genuss-Radler
DESCRIPTION:
URL:https://velogruppe.de/event/genuss-radler-12/
LOCATION:Rathaus Großhabersdorf\, Nürnbergerstr. 12\, Großhabersdorf\, 90613
CATEGORIES:Genussradler
END:VEVENT
BEGIN:VEVENT
DTSTART;TZID=Europe/Helsinki:20260617T183000
DTEND;TZID=Europe/Helsinki:20260617T213000
DTSTAMP:20260420T141545
CREATED:20260314T132502Z
LAST-MODIFIED:20260314T132502Z
UID:1321-1781721000-1781731800@velogruppe.de
SUMMARY:Rennrad Gruppe 1 & 2 & 3
DESCRIPTION:
URL:https://velogruppe.de/event/rennrad-gruppe-1-2-3-13/
LOCATION:Rathaus Großhabersdorf\, Nürnbergerstr. 12\, Großhabersdorf\, 90613
CATEGORIES:Rennrad
ORGANIZER;CN="Hofmann / H%C3%A4usler / H%C3%A4hnlein":MAILTO:x
END:VEVENT
BEGIN:VEVENT
DTSTART;TZID=Europe/Helsinki:20260618T183000
DTEND;TZID=Europe/Helsinki:20260618T203000
DTSTAMP:20260420T141545
CREATED:20260314T133830Z
LAST-MODIFIED:20260314T133830Z
UID:1347-1781807400-1781814600@velogruppe.de
SUMMARY:Trekking-Radler
DESCRIPTION:
URL:https://velogruppe.de/event/trekking-radler-25/
LOCATION:Rathaus Großhabersdorf\, Nürnbergerstr. 12\, Großhabersdorf\, 90613
CATEGORIES:Trekking
END:VEVENT
BEGIN:VEVENT
DTSTART;TZID=Europe/Helsinki:20260623T180000
DTEND;TZID=Europe/Helsinki:20260623T200000
DTSTAMP:20260420T141545
CREATED:20260314T130344Z
LAST-MODIFIED:20260314T130344Z
UID:1288-1782237600-1782244800@velogruppe.de
SUMMARY:Genuss-Radler
DESCRIPTION:
URL:https://velogruppe.de/event/genuss-radler-13/
LOCATION:Rathaus Großhabersdorf\, Nürnbergerstr. 12\, Großhabersdorf\, 90613
CATEGORIES:Genussradler
END:VEVENT
BEGIN:VEVENT
DTSTART;TZID=Europe/Helsinki:20260624T183000
DTEND;TZID=Europe/Helsinki:20260624T213000
DTSTAMP:20260420T141545
CREATED:20260314T132224Z
LAST-MODIFIED:20260314T132224Z
UID:1319-1782325800-1782336600@velogruppe.de
SUMMARY:Rennrad Gruppe 1 & 2 & 3
DESCRIPTION:
URL:https://velogruppe.de/event/rennrad-gruppe-1-2-3-12/
LOCATION:Rathaus Großhabersdorf\, Nürnbergerstr. 12\, Großhabersdorf\, 90613
CATEGORIES:Rennrad
END:VEVENT
BEGIN:VEVENT
DTSTART;TZID=Europe/Helsinki:20260625T183000
DTEND;TZID=Europe/Helsinki:20260625T203000
DTSTAMP:20260420T141545
CREATED:20260314T133922Z
LAST-MODIFIED:20260314T133922Z
UID:1349-1782412200-1782419400@velogruppe.de
SUMMARY:Trekking-Radler
DESCRIPTION:
URL:https://velogruppe.de/event/trekking-radler-26/
LOCATION:Rathaus Großhabersdorf\, Nürnbergerstr. 12\, Großhabersdorf\, 90613
CATEGORIES:Trekking
END:VEVENT
BEGIN:VEVENT
DTSTART;TZID=Europe/Helsinki:20260628T080000
DTEND;TZID=Europe/Helsinki:20260702T170000
DTSTAMP:20260420T141545
CREATED:20260216T183612Z
LAST-MODIFIED:20260216T183612Z
UID:1207-1782633600-1783011600@velogruppe.de
SUMMARY:Radreise nach Waidring
DESCRIPTION:Mehrtätige Radreise mit dem Unternehmen Reck nach Waidring.\nDie Anreise wird mit dem Bus durchgeführt.\nFür die weiteren Details steht Karl Altmann zur Verfügung
URL:https://velogruppe.de/event/radreise-nach-waidring/
END:VEVENT
BEGIN:VEVENT
DTSTART;TZID=Europe/Helsinki:20260630T180000
DTEND;TZID=Europe/Helsinki:20260630T200000
DTSTAMP:20260420T141545
CREATED:20260314T130439Z
LAST-MODIFIED:20260314T130439Z
UID:1291-1782842400-1782849600@velogruppe.de
SUMMARY:Genuss-Radler
DESCRIPTION:
URL:https://velogruppe.de/event/genuss-radler-14/
LOCATION:Rathaus Großhabersdorf\, Nürnbergerstr. 12\, Großhabersdorf\, 90613
CATEGORIES:Genussradler
END:VEVENT
BEGIN:VEVENT
DTSTART;TZID=Europe/Helsinki:20260701T183000
DTEND;TZID=Europe/Helsinki:20260701T213000
DTSTAMP:20260420T141545
CREATED:20260314T132551Z
LAST-MODIFIED:20260314T132551Z
UID:1323-1782930600-1782941400@velogruppe.de
SUMMARY:Rennrad Gruppe 1 & 2 & 3
DESCRIPTION:
URL:https://velogruppe.de/event/rennrad-gruppe-1-2-3-14/
LOCATION:Rathaus Großhabersdorf\, Nürnbergerstr. 12\, Großhabersdorf\, 90613
CATEGORIES:Rennrad
ORGANIZER;CN="Hofmann / H%C3%A4usler / H%C3%A4hnlein":MAILTO:x
END:VEVENT
BEGIN:VEVENT
DTSTART;TZID=Europe/Helsinki:20260702T183000
DTEND;TZID=Europe/Helsinki:20260702T203000
DTSTAMP:20260420T141545
CREATED:20260314T134004Z
LAST-MODIFIED:20260314T134004Z
UID:1351-1783017000-1783024200@velogruppe.de
SUMMARY:Trekking-Radler
DESCRIPTION:
URL:https://velogruppe.de/event/trekking-radler-27/
LOCATION:Rathaus Großhabersdorf\, Nürnbergerstr. 12\, Großhabersdorf\, 90613
CATEGORIES:Trekking
END:VEVENT
BEGIN:VEVENT
DTSTART;TZID=Europe/Helsinki:20260704T140000
DTEND;TZID=Europe/Helsinki:20260704T235900
DTSTAMP:20260420T141545
CREATED:20260216T184348Z
LAST-MODIFIED:20260216T184348Z
UID:1214-1783173600-1783209540@velogruppe.de
SUMMARY:Feier 25 Jahre Velogruppe Großhabersdorf
DESCRIPTION:Die Velogruppe Großhabersdorf feiert ihr 25-jähriges Jubiläum. Dazu laden wir unsere Mitglieder sowie deren Familie herzlich ein. \nOrt: Gemeindehaus Vincenzenbronn \nUhrzeit und Rahmenprogramm: Werden noch bekannt gegeben. \nWir freuen uns auf ein gemeinsames Feiern und viele schöne Erinnerungen aus 25 Jahren Radgemeinschaft.
URL:https://velogruppe.de/event/feier-25-jahre-velogruppe-grosshabersdorf/
CATEGORIES:Genussradler,Mountainbike,Rennrad,Sonderveranstaltungen,Trekking
END:VEVENT
BEGIN:VEVENT
DTSTART;TZID=Europe/Helsinki:20260707T180000
DTEND;TZID=Europe/Helsinki:20260707T200000
DTSTAMP:20260420T141545
CREATED:20260314T130746Z
LAST-MODIFIED:20260314T130746Z
UID:1293-1783447200-1783454400@velogruppe.de
SUMMARY:Genuss-Radler
DESCRIPTION:
URL:https://velogruppe.de/event/genuss-radler-15/
LOCATION:Rathaus Großhabersdorf\, Nürnbergerstr. 12\, Großhabersdorf\, 90613
CATEGORIES:Genussradler
END:VEVENT
BEGIN:VEVENT
DTSTART;TZID=Europe/Helsinki:20260708T183000
DTEND;TZID=Europe/Helsinki:20260708T213000
DTSTAMP:20260420T141545
CREATED:20260314T132642Z
LAST-MODIFIED:20260314T132642Z
UID:1325-1783535400-1783546200@velogruppe.de
SUMMARY:Rennrad Gruppe 1 & 2 & 3
DESCRIPTION:
URL:https://velogruppe.de/event/rennrad-gruppe-1-2-3-15/
LOCATION:Rathaus Großhabersdorf\, Nürnbergerstr. 12\, Großhabersdorf\, 90613
CATEGORIES:Rennrad
ORGANIZER;CN="Hofmann / H%C3%A4usler / H%C3%A4hnlein":MAILTO:x
END:VEVENT
BEGIN:VEVENT
DTSTART;TZID=Europe/Helsinki:20260709T183000
DTEND;TZID=Europe/Helsinki:20260709T203000
DTSTAMP:20260420T141545
CREATED:20260314T134045Z
LAST-MODIFIED:20260314T134045Z
UID:1353-1783621800-1783629000@velogruppe.de
SUMMARY:Trekking-Radler
DESCRIPTION:
URL:https://velogruppe.de/event/trekking-radler-28/
LOCATION:Rathaus Großhabersdorf\, Nürnbergerstr. 12\, Großhabersdorf\, 90613
CATEGORIES:Trekking
END:VEVENT
BEGIN:VEVENT
DTSTART;TZID=Europe/Helsinki:20260714T180000
DTEND;TZID=Europe/Helsinki:20260714T200000
DTSTAMP:20260420T141545
CREATED:20260314T130831Z
LAST-MODIFIED:20260314T130831Z
UID:1295-1784052000-1784059200@velogruppe.de
SUMMARY:Genuss-Radler
DESCRIPTION:
URL:https://velogruppe.de/event/genuss-radler-16/
LOCATION:Rathaus Großhabersdorf\, Nürnbergerstr. 12\, Großhabersdorf\, 90613
CATEGORIES:Genussradler
END:VEVENT
BEGIN:VEVENT
DTSTART;TZID=Europe/Helsinki:20260715T183000
DTEND;TZID=Europe/Helsinki:20260715T213000
DTSTAMP:20260420T141545
CREATED:20260314T132717Z
LAST-MODIFIED:20260314T132717Z
UID:1327-1784140200-1784151000@velogruppe.de
SUMMARY:Rennrad Gruppe 1 & 2 & 3
DESCRIPTION:
URL:https://velogruppe.de/event/rennrad-gruppe-1-2-3-16/
LOCATION:Rathaus Großhabersdorf\, Nürnbergerstr. 12\, Großhabersdorf\, 90613
CATEGORIES:Rennrad
ORGANIZER;CN="Hofmann / H%C3%A4usler / H%C3%A4hnlein":MAILTO:x
END:VEVENT
BEGIN:VEVENT
DTSTART;TZID=Europe/Helsinki:20260716T183000
DTEND;TZID=Europe/Helsinki:20260716T203000
DTSTAMP:20260420T141545
CREATED:20260314T134204Z
LAST-MODIFIED:20260314T134204Z
UID:1357-1784226600-1784233800@velogruppe.de
SUMMARY:Trekking-Radler
DESCRIPTION:
URL:https://velogruppe.de/event/trekking-radler-30/
LOCATION:Rathaus Großhabersdorf\, Nürnbergerstr. 12\, Großhabersdorf\, 90613
CATEGORIES:Trekking
END:VEVENT
BEGIN:VEVENT
DTSTART;TZID=Europe/Helsinki:20260721T180000
DTEND;TZID=Europe/Helsinki:20260721T200000
DTSTAMP:20260420T141545
CREATED:20260314T131028Z
LAST-MODIFIED:20260314T131028Z
UID:1299-1784656800-1784664000@velogruppe.de
SUMMARY:Genuss-Radler
DESCRIPTION:
URL:https://velogruppe.de/event/genuss-radler-18/
LOCATION:Rathaus Großhabersdorf\, Nürnbergerstr. 12\, Großhabersdorf\, 90613
CATEGORIES:Genussradler
END:VEVENT
BEGIN:VEVENT
DTSTART;TZID=Europe/Helsinki:20260722T183000
DTEND;TZID=Europe/Helsinki:20260722T213000
DTSTAMP:20260420T141545
CREATED:20260314T132812Z
LAST-MODIFIED:20260314T132812Z
UID:1329-1784745000-1784755800@velogruppe.de
SUMMARY:Rennrad Gruppe 1 & 2 & 3
DESCRIPTION:
URL:https://velogruppe.de/event/rennrad-gruppe-1-2-3-17/
LOCATION:Rathaus Großhabersdorf\, Nürnbergerstr. 12\, Großhabersdorf\, 90613
CATEGORIES:Rennrad
ORGANIZER;CN="Hofmann / H%C3%A4usler / H%C3%A4hnlein":MAILTO:x
END:VEVENT
BEGIN:VEVENT
DTSTART;TZID=Europe/Helsinki:20260723T183000
DTEND;TZID=Europe/Helsinki:20260723T203000
DTSTAMP:20260420T141545
CREATED:20260314T134243Z
LAST-MODIFIED:20260314T134243Z
UID:1359-1784831400-1784838600@velogruppe.de
SUMMARY:Trekking-Radler
DESCRIPTION:
URL:https://velogruppe.de/event/trekking-radler-31/
LOCATION:Rathaus Großhabersdorf\, Nürnbergerstr. 12\, Großhabersdorf\, 90613
CATEGORIES:Trekking
END:VEVENT
BEGIN:VEVENT
DTSTART;TZID=Europe/Helsinki:20260725T080000
DTEND;TZID=Europe/Helsinki:20260726T170000
DTSTAMP:20260420T141545
CREATED:20260216T184724Z
LAST-MODIFIED:20260216T184724Z
UID:1217-1784966400-1785085200@velogruppe.de
SUMMARY:2-Tages-Tour nach Bamberg
DESCRIPTION:Für nähere Informationen stehen Helgo Hofmann und Gerhard Schermer zur Verfügung.
URL:https://velogruppe.de/event/2-tages-tour-nach-bamberg/
END:VEVENT
BEGIN:VEVENT
DTSTART;TZID=Europe/Helsinki:20260728T180000
DTEND;TZID=Europe/Helsinki:20260728T200000
DTSTAMP:20260420T141545
CREATED:20260314T131117Z
LAST-MODIFIED:20260314T131117Z
UID:1301-1785261600-1785268800@velogruppe.de
SUMMARY:Genuss-Radler
DESCRIPTION:
URL:https://velogruppe.de/event/genuss-radler-19/
LOCATION:Rathaus Großhabersdorf\, Nürnbergerstr. 12\, Großhabersdorf\, 90613
CATEGORIES:Genussradler
END:VEVENT
END:VCALENDAR