BEGIN:VCALENDAR
VERSION:2.0
PRODID:-//velogruppe - ECPv6.15.11//NONSGML v1.0//EN
CALSCALE:GREGORIAN
METHOD:PUBLISH
X-WR-CALNAME:velogruppe
X-ORIGINAL-URL:https://velogruppe.de
X-WR-CALDESC:Veranstaltungen für velogruppe
REFRESH-INTERVAL;VALUE=DURATION:PT1H
X-Robots-Tag:noindex
X-PUBLISHED-TTL:PT1H
BEGIN:VTIMEZONE
TZID:Europe/Helsinki
BEGIN:DAYLIGHT
TZOFFSETFROM:+0200
TZOFFSETTO:+0300
TZNAME:EEST
DTSTART:20250330T010000
END:DAYLIGHT
BEGIN:STANDARD
TZOFFSETFROM:+0300
TZOFFSETTO:+0200
TZNAME:EET
DTSTART:20251026T010000
END:STANDARD
BEGIN:DAYLIGHT
TZOFFSETFROM:+0200
TZOFFSETTO:+0300
TZNAME:EEST
DTSTART:20260329T010000
END:DAYLIGHT
BEGIN:STANDARD
TZOFFSETFROM:+0300
TZOFFSETTO:+0200
TZNAME:EET
DTSTART:20261025T010000
END:STANDARD
BEGIN:DAYLIGHT
TZOFFSETFROM:+0200
TZOFFSETTO:+0300
TZNAME:EEST
DTSTART:20270328T010000
END:DAYLIGHT
BEGIN:STANDARD
TZOFFSETFROM:+0300
TZOFFSETTO:+0200
TZNAME:EET
DTSTART:20271031T010000
END:STANDARD
END:VTIMEZONE
BEGIN:VEVENT
DTSTART;TZID=Europe/Helsinki:20260505T180000
DTEND;TZID=Europe/Helsinki:20260505T200000
DTSTAMP:20260420T141702
CREATED:20260314T064827Z
LAST-MODIFIED:20260314T064827Z
UID:1239-1778004000-1778011200@velogruppe.de
SUMMARY:Genuss-Radler
DESCRIPTION:
URL:https://velogruppe.de/event/genuss-radler-5/
LOCATION:Rathaus Großhabersdorf\, Nürnbergerstr. 12\, Großhabersdorf\, 90613
CATEGORIES:Genussradler
END:VEVENT
BEGIN:VEVENT
DTSTART;TZID=Europe/Helsinki:20260506T180000
DTEND;TZID=Europe/Helsinki:20260506T200000
DTSTAMP:20260420T141702
CREATED:20260314T065832Z
LAST-MODIFIED:20260314T070013Z
UID:1257-1778090400-1778097600@velogruppe.de
SUMMARY:Rennrad Gruppe 1 & 2 & 3
DESCRIPTION:
URL:https://velogruppe.de/event/rennrad-gruppe-1-2-3-6/
LOCATION:Rathaus Großhabersdorf\, Nürnbergerstr. 12\, Großhabersdorf\, 90613
CATEGORIES:Rennrad
ORGANIZER;CN="Hofmann / H%C3%A4usler / H%C3%A4hnlein":MAILTO:x
END:VEVENT
BEGIN:VEVENT
DTSTART;TZID=Europe/Helsinki:20260507T183000
DTEND;TZID=Europe/Helsinki:20260507T200000
DTSTAMP:20260420T141702
CREATED:20260314T070637Z
LAST-MODIFIED:20260314T125243Z
UID:1270-1778178600-1778184000@velogruppe.de
SUMMARY:Trekking-Radler
DESCRIPTION:
URL:https://velogruppe.de/event/trekking-radler-18/
LOCATION:Rathaus Großhabersdorf\, Nürnbergerstr. 12\, Großhabersdorf\, 90613
CATEGORIES:Trekking
END:VEVENT
BEGIN:VEVENT
DTSTART;TZID=Europe/Helsinki:20260509T080000
DTEND;TZID=Europe/Helsinki:20260516T170000
DTSTAMP:20260420T141702
CREATED:20260216T182726Z
LAST-MODIFIED:20260216T182726Z
UID:1203-1778313600-1778950800@velogruppe.de
SUMMARY:Rennradwoche Riccione
DESCRIPTION:
URL:https://velogruppe.de/event/rennradwoche-riccione/
CATEGORIES:Rennrad
END:VEVENT
BEGIN:VEVENT
DTSTART;TZID=Europe/Helsinki:20260512T180000
DTEND;TZID=Europe/Helsinki:20260512T200000
DTSTAMP:20260420T141702
CREATED:20260314T064908Z
LAST-MODIFIED:20260314T064908Z
UID:1241-1778608800-1778616000@velogruppe.de
SUMMARY:Genuss-Radler
DESCRIPTION:
URL:https://velogruppe.de/event/genuss-radler-6/
LOCATION:Rathaus Großhabersdorf\, Nürnbergerstr. 12\, Großhabersdorf\, 90613
CATEGORIES:Genussradler
END:VEVENT
BEGIN:VEVENT
DTSTART;TZID=Europe/Helsinki:20260513T183000
DTEND;TZID=Europe/Helsinki:20260513T203000
DTSTAMP:20260420T141702
CREATED:20260314T070103Z
LAST-MODIFIED:20260314T070103Z
UID:1261-1778697000-1778704200@velogruppe.de
SUMMARY:Rennrad Gruppe 1 & 2 & 3
DESCRIPTION:
URL:https://velogruppe.de/event/rennrad-gruppe-1-2-3-7/
LOCATION:Rathaus Großhabersdorf\, Nürnbergerstr. 12\, Großhabersdorf\, 90613
CATEGORIES:Rennrad
ORGANIZER;CN="Hofmann / H%C3%A4usler / H%C3%A4hnlein":MAILTO:x
END:VEVENT
BEGIN:VEVENT
DTSTART;TZID=Europe/Helsinki:20260514T183000
DTEND;TZID=Europe/Helsinki:20260514T203000
DTSTAMP:20260420T141702
CREATED:20260314T070728Z
LAST-MODIFIED:20260314T070728Z
UID:1272-1778783400-1778790600@velogruppe.de
SUMMARY:Trekking-Radler
DESCRIPTION:
URL:https://velogruppe.de/event/trekking-radler-19/
LOCATION:Rathaus Großhabersdorf\, Nürnbergerstr. 12\, Großhabersdorf\, 90613
CATEGORIES:Trekking
END:VEVENT
BEGIN:VEVENT
DTSTART;TZID=Europe/Helsinki:20260519T180000
DTEND;TZID=Europe/Helsinki:20260519T200000
DTSTAMP:20260420T141702
CREATED:20260314T064952Z
LAST-MODIFIED:20260314T064952Z
UID:1243-1779213600-1779220800@velogruppe.de
SUMMARY:Genuss-Radler
DESCRIPTION:
URL:https://velogruppe.de/event/genuss-radler-7/
LOCATION:Rathaus Großhabersdorf\, Nürnbergerstr. 12\, Großhabersdorf\, 90613
CATEGORIES:Genussradler
END:VEVENT
BEGIN:VEVENT
DTSTART;TZID=Europe/Helsinki:20260520T183000
DTEND;TZID=Europe/Helsinki:20260520T210000
DTSTAMP:20260420T141702
CREATED:20260314T131808Z
LAST-MODIFIED:20260314T131808Z
UID:1311-1779301800-1779310800@velogruppe.de
SUMMARY:Rennrad Gruppe 1 & 2 & 3
DESCRIPTION:
URL:https://velogruppe.de/event/rennrad-gruppe-1-2-3-8/
LOCATION:Rathaus Großhabersdorf\, Nürnbergerstr. 12\, Großhabersdorf\, 90613
CATEGORIES:Rennrad
ORGANIZER;CN="Hofmann / H%C3%A4usler / H%C3%A4hnlein":MAILTO:x
END:VEVENT
BEGIN:VEVENT
DTSTART;TZID=Europe/Helsinki:20260521T183000
DTEND;TZID=Europe/Helsinki:20260521T203000
DTSTAMP:20260420T141702
CREATED:20260314T070811Z
LAST-MODIFIED:20260314T070811Z
UID:1274-1779388200-1779395400@velogruppe.de
SUMMARY:Trekking-Radler
DESCRIPTION:
URL:https://velogruppe.de/event/trekking-radler-20/
LOCATION:Rathaus Großhabersdorf\, Nürnbergerstr. 12\, Großhabersdorf\, 90613
CATEGORIES:Trekking
END:VEVENT
BEGIN:VEVENT
DTSTART;TZID=Europe/Helsinki:20260525T090000
DTEND;TZID=Europe/Helsinki:20260525T170000
DTSTAMP:20260420T141702
CREATED:20260216T183142Z
LAST-MODIFIED:20260216T183142Z
UID:1205-1779699600-1779728400@velogruppe.de
SUMMARY:Kulturtour
DESCRIPTION:Kulturtour nach Feucht oder Hilpoltstein. \nDie konkrete Uhrzeiten werden noch bekanntgegeben.
URL:https://velogruppe.de/event/kulturtour/
CATEGORIES:Genussradler,Mountainbike,Rennrad,Sonderveranstaltungen,Trekking
END:VEVENT
BEGIN:VEVENT
DTSTART;TZID=Europe/Helsinki:20260526T180000
DTEND;TZID=Europe/Helsinki:20260526T200000
DTSTAMP:20260420T141702
CREATED:20260314T065030Z
LAST-MODIFIED:20260314T065030Z
UID:1245-1779818400-1779825600@velogruppe.de
SUMMARY:Genuss-Radler
DESCRIPTION:
URL:https://velogruppe.de/event/genuss-radler-8/
LOCATION:Rathaus Großhabersdorf\, Nürnbergerstr. 12\, Großhabersdorf\, 90613
CATEGORIES:Genussradler
END:VEVENT
BEGIN:VEVENT
DTSTART;TZID=Europe/Helsinki:20260527T183000
DTEND;TZID=Europe/Helsinki:20260527T210000
DTSTAMP:20260420T141702
CREATED:20260314T131906Z
LAST-MODIFIED:20260314T131906Z
UID:1313-1779906600-1779915600@velogruppe.de
SUMMARY:Rennrad Gruppe 1 & 2 & 3
DESCRIPTION:
URL:https://velogruppe.de/event/rennrad-gruppe-1-2-3-9/
LOCATION:Rathaus Großhabersdorf\, Nürnbergerstr. 12\, Großhabersdorf\, 90613
CATEGORIES:Rennrad
ORGANIZER;CN="Hofmann / H%C3%A4usler / H%C3%A4hnlein":MAILTO:x
END:VEVENT
BEGIN:VEVENT
DTSTART;TZID=Europe/Helsinki:20260528T183000
DTEND;TZID=Europe/Helsinki:20260528T203000
DTSTAMP:20260420T141702
CREATED:20260314T133441Z
LAST-MODIFIED:20260314T133712Z
UID:1341-1779993000-1780000200@velogruppe.de
SUMMARY:Trekking-Radler
DESCRIPTION:
URL:https://velogruppe.de/event/trekking-radler-22/
LOCATION:Rathaus Großhabersdorf\, Nürnbergerstr. 12\, Großhabersdorf\, 90613
CATEGORIES:Trekking
END:VEVENT
END:VCALENDAR