BEGIN:VCALENDAR
VERSION:2.0
PRODID:-//velogruppe - ECPv6.15.11//NONSGML v1.0//EN
CALSCALE:GREGORIAN
METHOD:PUBLISH
X-WR-CALNAME:velogruppe
X-ORIGINAL-URL:https://velogruppe.de
X-WR-CALDESC:Veranstaltungen für velogruppe
REFRESH-INTERVAL;VALUE=DURATION:PT1H
X-Robots-Tag:noindex
X-PUBLISHED-TTL:PT1H
BEGIN:VTIMEZONE
TZID:Europe/Helsinki
BEGIN:DAYLIGHT
TZOFFSETFROM:+0200
TZOFFSETTO:+0300
TZNAME:EEST
DTSTART:20250330T010000
END:DAYLIGHT
BEGIN:STANDARD
TZOFFSETFROM:+0300
TZOFFSETTO:+0200
TZNAME:EET
DTSTART:20251026T010000
END:STANDARD
BEGIN:DAYLIGHT
TZOFFSETFROM:+0200
TZOFFSETTO:+0300
TZNAME:EEST
DTSTART:20260329T010000
END:DAYLIGHT
BEGIN:STANDARD
TZOFFSETFROM:+0300
TZOFFSETTO:+0200
TZNAME:EET
DTSTART:20261025T010000
END:STANDARD
BEGIN:DAYLIGHT
TZOFFSETFROM:+0200
TZOFFSETTO:+0300
TZNAME:EEST
DTSTART:20270328T010000
END:DAYLIGHT
BEGIN:STANDARD
TZOFFSETFROM:+0300
TZOFFSETTO:+0200
TZNAME:EET
DTSTART:20271031T010000
END:STANDARD
END:VTIMEZONE
BEGIN:VEVENT
DTSTART;TZID=Europe/Helsinki:20260421T180000
DTEND;TZID=Europe/Helsinki:20260421T200000
DTSTAMP:20260420T120350
CREATED:20260314T064650Z
LAST-MODIFIED:20260314T064650Z
UID:1235-1776794400-1776801600@velogruppe.de
SUMMARY:Genuss-Radler
DESCRIPTION:
URL:https://velogruppe.de/event/genuss-radler-3/
LOCATION:Rathaus Großhabersdorf\, Nürnbergerstr. 12\, Großhabersdorf\, 90613
CATEGORIES:Genussradler
END:VEVENT
BEGIN:VEVENT
DTSTART;TZID=Europe/Helsinki:20260422T180000
DTEND;TZID=Europe/Helsinki:20260422T200000
DTSTAMP:20260420T120350
CREATED:20260314T065655Z
LAST-MODIFIED:20260314T065655Z
UID:1253-1776880800-1776888000@velogruppe.de
SUMMARY:Rennrad Gruppe 1 & 2 & 3
DESCRIPTION:
URL:https://velogruppe.de/event/rennrad-gruppe-1-2-3-4/
LOCATION:Rathaus Großhabersdorf\, Nürnbergerstr. 12\, Großhabersdorf\, 90613
CATEGORIES:Rennrad
ORGANIZER;CN="Hofmann / H%C3%A4usler / H%C3%A4hnlein":MAILTO:x
END:VEVENT
BEGIN:VEVENT
DTSTART;TZID=Europe/Helsinki:20260423T183000
DTEND;TZID=Europe/Helsinki:20260423T200000
DTSTAMP:20260420T120350
CREATED:20260314T070504Z
LAST-MODIFIED:20260314T125008Z
UID:1266-1776969000-1776974400@velogruppe.de
SUMMARY:Trekking-Radler
DESCRIPTION:
URL:https://velogruppe.de/event/trekking-radler-16/
LOCATION:Rathaus Großhabersdorf\, Nürnbergerstr. 12\, Großhabersdorf\, 90613
CATEGORIES:Trekking
END:VEVENT
BEGIN:VEVENT
DTSTART;TZID=Europe/Helsinki:20260428T180000
DTEND;TZID=Europe/Helsinki:20260428T200000
DTSTAMP:20260420T120350
CREATED:20260314T064732Z
LAST-MODIFIED:20260314T064732Z
UID:1237-1777399200-1777406400@velogruppe.de
SUMMARY:Genuss-Radler
DESCRIPTION:
URL:https://velogruppe.de/event/genuss-radler-4/
LOCATION:Rathaus Großhabersdorf\, Nürnbergerstr. 12\, Großhabersdorf\, 90613
CATEGORIES:Genussradler
END:VEVENT
BEGIN:VEVENT
DTSTART;TZID=Europe/Helsinki:20260429T180000
DTEND;TZID=Europe/Helsinki:20260429T200000
DTSTAMP:20260420T120350
CREATED:20260314T065746Z
LAST-MODIFIED:20260314T065746Z
UID:1255-1777485600-1777492800@velogruppe.de
SUMMARY:Rennrad Gruppe 1 & 2 & 3
DESCRIPTION:
URL:https://velogruppe.de/event/rennrad-gruppe-1-2-3-5/
LOCATION:Rathaus Großhabersdorf\, Nürnbergerstr. 12\, Großhabersdorf\, 90613
CATEGORIES:Rennrad
ORGANIZER;CN="Hofmann / H%C3%A4usler / H%C3%A4hnlein":MAILTO:x
END:VEVENT
BEGIN:VEVENT
DTSTART;TZID=Europe/Helsinki:20260430T183000
DTEND;TZID=Europe/Helsinki:20260430T200000
DTSTAMP:20260420T120350
CREATED:20260314T125455Z
LAST-MODIFIED:20260314T125537Z
UID:1278-1777573800-1777579200@velogruppe.de
SUMMARY:Trekking-Radler
DESCRIPTION:
URL:https://velogruppe.de/event/trekking-radler-17/
LOCATION:Rathaus Großhabersdorf\, Nürnbergerstr. 12\, Großhabersdorf\, 90613
CATEGORIES:Trekking
END:VEVENT
END:VCALENDAR